BEGIN:VCALENDAR
VERSION:2.0
PRODID:-//ChamberMaster//Event Calendar 2.0//EN
METHOD:PUBLISH
X-PUBLISHED-TTL:P3D
REFRESH-INTERVAL:P3D
CALSCALE:GREGORIAN
BEGIN:VEVENT
DTSTART:20130924T213000Z
DTEND:20130924T230000Z
X-MICROSOFT-CDO-ALLDAYEVENT:FALSE
SUMMARY:Ribbon Cutting at Creekside Village Healthcare
DESCRIPTION:Networking and Social Hour with hors d'oeuvre\, appetizers\, wine and music to follow ribbon cutting.
X-ALT-DESC;FMTTYPE=text/html:&nbsp\;Networking and Social Hour with hors d&#39\;oeuvre\, appetizers\, wine and music to follow ribbon cutting.
LOCATION:914 Brazosport Blvd N\, Richwood
UID:e.1759.62
SEQUENCE:3
DTSTAMP:20260422T083729Z
URL:http://business.bchispanicchamber.com/events/details/ribbon-cutting-at-creekside-village-healthcare-09-24-2013-62
END:VEVENT

END:VCALENDAR
