BEGIN:VCALENDAR
VERSION:2.0
PRODID:-//ChamberMaster//Event Calendar 2.0//EN
METHOD:PUBLISH
X-PUBLISHED-TTL:P3D
REFRESH-INTERVAL:P3D
CALSCALE:GREGORIAN
BEGIN:VEVENT
DTSTART:20130923T230000Z
DTEND:20130924T000000Z
X-MICROSOFT-CDO-ALLDAYEVENT:FALSE
SUMMARY:BCHCC Spanish Language Health Fair Meeting
DESCRIPTION:There will be a barbecue and three steering meetings.
X-ALT-DESC;FMTTYPE=text/html:There will be a barbecue and three steering meetings.&nbsp\;
LOCATION:First Christian Church located at 503 Oyster Creek Drive in Lake Jackson.
UID:e.1759.61
SEQUENCE:3
DTSTAMP:20260420T083230Z
URL:http://business.bchispanicchamber.com/events/details/bchcc-spanish-language-health-fair-meeting-09-23-2013-61
END:VEVENT

END:VCALENDAR
